BEGIN:VCALENDAR
VERSION:2.0
PRODID:-//Library Market//iCal Export//EN
BEGIN:VEVENT
SUMMARY:BLAC Fest 2026 Begins!
UID:33187
DTSTAMP:20260424T054900Z
DTSTART:20260601T040000Z
DTEND:20260601T040000Z
LOCATION:Main Library in Hillsborough, 137 W. Margaret Lane, Hillsborough,
  NC 27278, United States
ROOM: BLAC Fest 2026 Begins!
DESCRIPTION:Celebrate Juneteenth with BLAC Fest, Orange County Public Libr
 ary&#039;s Black Literature, Arts, &amp; Culture Festival! BLAC Fest featu
 res a series of events and activities leading up to Juneteenth including f
 ood, games, book discussions, film, history and more. A list of events and
  activities will be posted shortly. This is one of our programs throughou
 t 2026 that commemorate America 250, the 250th anniversary of the nation&#
 039;s founding. Click to see more A250 events at your library.Adult Summe
 r ReadingBLAC FestJuneteenth
URL:https://orangecountync.librarycalendar.com/BLACFest2026Begins
END:VEVENT
END:VCALENDAR
