BEGIN:VCALENDAR
VERSION:2.0
PRODID:-//Library Market//iCal Export//EN
BEGIN:VEVENT
SUMMARY:Babytime at Southern
UID:33069
DTSTAMP:20260424T053100Z
DTSTART:20260630T150000Z
DTEND:20260630T153000Z
LOCATION:203 S. Greensboro St., Carrboro, NC 27510, United States
ROOM: Babytime at Southern
DESCRIPTION:Join us in the kid&#039;s area of the Southern Branch LibraryF
 or a 15-20 minute early literacy program for babies with stories, rhymes, 
 bounces, and songs! For newborns up to walkers with their caregivers and s
 iblings.Location is inside the Southern Branch Library on the first floor 
 of the Drakeford Library Complex in Carrboro, NC.
URL:https://orangecountync.librarycalendar.com/event/babytime-southern-330
 69
END:VEVENT
END:VCALENDAR
