BEGIN:VCALENDAR
VERSION:2.0
PRODID:-//Library Market//iCal Export//EN
BEGIN:VEVENT
SUMMARY:Passive Monarch Butterfly Engagement
UID:32988
DTSTAMP:20260423T224700Z
DTSTART:20260427T040000Z
DTEND:20260427T040000Z
LOCATION:203 S. Greensboro St., Carrboro, NC 27510, United States
ROOM: Passive Monarch Butterfly Engagement
DESCRIPTION:
URL:https://orangecountync.librarycalendar.com/event/passive-monarch-butte
 rfly-engagement-32988
END:VEVENT
END:VCALENDAR
