BEGIN:VCALENDAR
VERSION:2.0
PRODID:-//Library Market//iCal Export//EN
BEGIN:VEVENT
SUMMARY:Hot Wheels Handspinning Group
UID:30438
DTSTAMP:20260421T041600Z
DTSTART:20260510T180000Z
DTEND:20260510T210000Z
LOCATION:Main Library in Hillsborough, 137 W. Margaret Lane, Hillsborough,
  NC 27278, United States
ROOM: Main Meeting Room 116
DESCRIPTION:Hotwheels Handspinners is an active group of fiber artists who
 se craft begins (mostly) at the spinning wheel, where we make yarn to knit
 , weave, crochet, felt, macrame, and more! We meet monthly at the Orange 
 County Public Library&#039;s Main Branch in Hillsborough, and welcome spin
 ners of all levels of expertise who have fiber to spin and something to sp
 in it with. While the meeting room offers ample space for spinning wheels,
  we ask that you register in advance to help us properly prepare for each 
 meeting.Be on the lookout for occasional “Learn To Spin” gatherings fo
 r both adults and children, as well as an annual fiber swap. For inspirati
 on, feel free to browse the library&#039;s collection of books on handspin
 ning.Registration in advance for this event is strongly recommended
URL:https://orangecountync.librarycalendar.com/event/hot-wheels-handspinni
 ng-group-30438
END:VEVENT
END:VCALENDAR
