BEGIN:VCALENDAR
VERSION:2.0
PRODID:-//Library Market//iCal Export//EN
BEGIN:VEVENT
SUMMARY:Morning Friendly Fiber Fridays Meet-Up
UID:29493
DTSTAMP:20260420T015700Z
DTSTART:20260206T140000Z
DTEND:20260206T153000Z
LOCATION:Main Library in Hillsborough, 137 W. Margaret Lane, Hillsborough,
  NC 27278, United States
ROOM: Main Meeting Room 116
DESCRIPTION:Friendly Fiber Fridays Meet-Up | First and fourth Fridays of t
 he month from 9am to 10:30am at Main Library located at 137 West Margaret 
 Lane, Hillsborough, North Carolina 27278. Do you knit, crochet, or do oth
 er fiber work? Bring your project and join us at Main Library in Hillsboro
 ugh for a Friendly Fiber Fridays. This is a fun meet up for fibercrafty fo
 lks with space for you to spread out, work, and chat with other crafters. 
 The library has yarn available for anyone to take if they like, and patter
 ns are available in the fibercraft section of adult nonfiction (in the 746
 s). Feel free to bring your morning coffee and snacks along. 
URL:https://orangecountync.librarycalendar.com/event/morning-friendly-fibe
 r-fridays-meet-29493
END:VEVENT
END:VCALENDAR
