BEGIN:VCALENDAR
VERSION:2.0
PRODID:-//Library Market//iCal Export//EN
BEGIN:VEVENT
SUMMARY:Storytime at Southern
UID:33076
DTSTAMP:20260422T130400Z
DTSTART:20260625T143000Z
DTEND:20260625T150000Z
LOCATION:203 S. Greensboro St., Carrboro, NC 27510, United States
ROOM: Storytime at Southern
DESCRIPTION:Join us at Southern Branch library for storytime!Starting at 1
 0:30am, Southern Branch librarians will lead a 25-30 minute program with s
 tories, songs, and movement for toddlers-preschoolers and their caregivers
  and siblings.These events are free and require no registration.Children m
 ust be supervised by their adult caretakers at all times.Location: Library
  is on the first floor of the Drakeford Library Complex building--informat
 ion desk inside can direct you.Town of Carrboro&#039;s Toddler Playtime pa
 rtnership will resume in the fall of 2026.
URL:https://orangecountync.librarycalendar.com/index.php/event/storytime-s
 outhern-33076
END:VEVENT
END:VCALENDAR
